BEGIN:VCALENDAR
VERSION:2.0
PRODID:-//youpod//EN
BEGIN:VEVENT
UID:69e6fba5ee379@youpod
DTSTAMP:20260421T042301Z
DTSTART:20260324T170000
DTEND:20260324T180000
SUMMARY:Auslandsaufenthalte: Online-Vortragsreihe
DESCRIPTION:Von März bis Dezember 2026 beleuchtet die Vortragsreihe von Eurodesk monatlich unterschiedliche Wege ins Ausland. Expert*innen und Partnerorganisationen informieren über Voraussetzungen\, Finanzierung und Planung eines solchen Aufenthalts. Das Programm deckt die gesamte Bandbreite der Mobilität ab und spricht diverse Zielgruppen an.  9. März\, 18 bis 19.30 Uhr | Internationale Freiwilligendienst im Ausland (Jugendagentur Stuttgart) 24. März\, 17 bis 18 Uhr | DiscoverEU und andere Reisestipendien (Eurodesk Deutschland/IJAB e.V.) 28. April\, 16.30 bis 18 Uhr | Während der Ausbildung ins Ausland? (Nationale Agentur Bildung für Europa) 26. Mai\, 17 bis 18.30 Uhr | Jugendbegegnungen und Workcamps (Landesjugendring Schleswig-Holstein e. V. und Internationaler Bauorden) 6. Juni\, 18 bis 19.30 Uhr | Mit Sprachreisen die Welt entdecken (Fachverband Deutscher Sprachreise-Veranstalter e.V.) 2. September\, 18 bis 20 Uhr | Digitale AJA-Schüleraustausch&#8211\;Messe (YFU Deutschland) 7. Oktober\, 17 bis 18 Uhr | DiscoverEU und andere Reisestipendien (Eurodesk Deutschland/IJAB e.V.) 29. Oktober\, 18 bis 19.30 Uhr | Work &amp\; Travel und WWOOFing (tip-Jugendinformation Augsburg) November\, genauer Termin folgt | Studienbezogene Auslandsaufenthalte (Deutscher Akademischer Austauschdienst) 2. Dezember\, 17 bis 18 Uhr | Auslandsaufenthalte im Vereinigten Königreich (Zentrale Auslands- und Fachvermittlung der Bundesagentur für Arbeit)  Persönliche Beratung vor Ort erhältst du in Düsseldorf beim Jugendinformationszentrum zeTT\, das die lokale offizielle Eurodesk-Stelle ist. Eurodesk ist ein europäisches Jugendinformationsnetzwerk mit Koordinierungsstellen in 36 Ländern. Es ist ein Projekt von IJAB – Fachstelle für Internationale Jugendarbeit der Bundesrepublik Deutschland e. V.  Link zur Veranstaltung: https://youpod.de/youevent/auslandsaufenthalte-online-vortragsreihe/
LOCATION:Online
END:VEVENT
END:VCALENDAR
