BEGIN:VCALENDAR
VERSION:2.0
PRODID:-//youpod//EN
BEGIN:VEVENT
UID:69ea4bdaf2087@youpod
DTSTAMP:20260423T164202Z
DTSTART:20260502T110000
DTEND:20260502T120000
SUMMARY:Rad-Aktionstag am Rathausufer
DESCRIPTION:Unter dem Motto &#8220\;Entdecken. Testen. Losradeln.&#8221\; erwartet die Gäste am Samstag\, 2. Mai\, 11 bis 17 Uhr\, ein abwechslungsreicher Tag rund ums Fahrrad am Rathausufer/Ecke Burgplatz. Am Sonntag\, 3. Mai\, folgt die Sternfahrt des Allgemeinen Deutschen Fahrradclubs (ADFC). Bei dieser Aktion kommen Radfahrende aus verschiedenen Richtungen NRWs gemeinsam in die Düsseldorfer Innenstadt. Bewährtes und Neues Auch in diesem Jahr macht die gefragte Cargobike Roadshow wieder Halt in Düsseldorf. Interessierte können zwölf verschiedene Lastenradmodelle testen und sich fachkundig und neutral beraten lassen. Darüber hinaus wird es erneut ein umfassendes Service- und Informationsangebot geben – darunter kostenfreie Fahrradwäschen\, Informationen zu aktuellen Themen rund um den Radverkehr und die Verkehrssicherheit in Düsseldorf. Gut vorbereitet für das Stadtradeln Nur wenige Tage nach dem Rad-Aktionstag startet in Düsseldorf das diesjährige Stadtradeln. Von Dienstag\, 5.\, bis Montag\, 25. Mai\, sind die Menschen in der Landeshauptstadt aufgerufen\, möglichst viele Alltagswege klimafreundlich mit dem Fahrrad zurückzulegen und gemeinsam Kilometer für die Stadt zu sammeln. Mehr Informationen zum Radaktionstag finden sich online unter www.duesseldorf.de/radaktionstag.  Link zur Veranstaltung: https://youpod.de/youevent/rad-aktionstag-am-rathausufer/
LOCATION:Burgplatz\, 40213 Düsseldorf
END:VEVENT
END:VCALENDAR
